BEGIN:VCALENDAR
VERSION:2.0
PRODID:-//TCFD Knowledge Hub - ECPv5.12.1//NONSGML v1.0//EN
CALSCALE:GREGORIAN
METHOD:PUBLISH
X-WR-CALNAME:TCFD Knowledge Hub
X-ORIGINAL-URL:https://www.tcfdhub.org
X-WR-CALDESC:Events for TCFD Knowledge Hub
BEGIN:VTIMEZONE
TZID:UTC
BEGIN:STANDARD
TZOFFSETFROM:+0000
TZOFFSETTO:+0000
TZNAME:UTC
DTSTART:20210101T000000
END:STANDARD
END:VTIMEZONE
BEGIN:VEVENT
DTSTART;VALUE=DATE:20210601
DTEND;VALUE=DATE:20210604
DTSTAMP:20220114T130244
CREATED:20210119T131456Z
LAST-MODIFIED:20210119T131456Z
UID:4989-1622505600-1622764799@www.tcfdhub.org
SUMMARY:Responsible Business
DESCRIPTION:Global challenges must be tackled collectively with global solutions. However\, implementing solutions at scale can seem like an unconquerable challenge. As the tragedy on the horizon\, climate change\, draws nearer the world needs a vast portfolio of solutions to match its problems. We need new partnerships\, new ways of collaborating and open innovation among all stakeholders. \nAt The Reuters Events Global Responsible Business 2021 we will bring together 5\,000+ global leaders from CEOs\, policy-makers\, CSOs\, and investors who are driving change worldwide. \nTogether we can innovate\, invest and collaborate to tackle global problems and lead a clean and just future.
URL:https://www.tcfdhub.org/event-calendar/responsible-business/
LOCATION:Online
END:VEVENT
END:VCALENDAR