BEGIN:VCALENDAR
VERSION:2.0
PRODID:-//TCFD Knowledge Hub - ECPv5.12.1//NONSGML v1.0//EN
CALSCALE:GREGORIAN
METHOD:PUBLISH
X-WR-CALNAME:TCFD Knowledge Hub
X-ORIGINAL-URL:https://www.tcfdhub.org
X-WR-CALDESC:Events for TCFD Knowledge Hub
BEGIN:VTIMEZONE
TZID:Europe/Paris
BEGIN:DAYLIGHT
TZOFFSETFROM:+0100
TZOFFSETTO:+0200
TZNAME:CEST
DTSTART:20210328T010000
END:DAYLIGHT
BEGIN:STANDARD
TZOFFSETFROM:+0200
TZOFFSETTO:+0100
TZNAME:CET
DTSTART:20211031T010000
END:STANDARD
END:VTIMEZONE
BEGIN:VEVENT
DTSTART;TZID=Europe/Paris:20210610T150000
DTEND;TZID=Europe/Paris:20210610T160000
DTSTAMP:20220114T130353
CREATED:20210601T092919Z
LAST-MODIFIED:20210601T092919Z
UID:5179-1623337200-1623340800@www.tcfdhub.org
SUMMARY:Making portfolio decisions and climate engagement consistent
DESCRIPTION:Investment strategies aimed at transforming the economy to achieve Net Zero carbon emissions goals need to focus on how investors influence each company across all sectors to align their business models and develop climate solutions. The two Net Zero investment frameworks published in 2021 – from the PAII and the NZAOA – thus rightly place the emphasis on company-level engagements between shareholders and companies. Indeed\, as we will show in this webinar\, climate investment strategies with seemingly attractive portfolio-level carbon metrics can send completely inconsistent climate signals to individual company managers. They can also reduce the capital allocation to the very industries that need to finance the biggest technological shifts towards net zero alignment\, another blatant form of greenwashing. \nWe will also show how the Scientific Beta’s Climate Impact Consistent (CIC) indices address these shortcomings through the choice of metrics and portfolio construction methodology that encourages decarbonisation of the real economy. In the construction of CIC indices\, which are pure climate indices\, issuer-level climate performance and decarbonisation\, relative to the relevant sector\, unambiguously determine a constituent’s weight and its variation over time. Capital allocation thus not only influences the terms on which issuers may enjoy access to capital but also sends them clear signals about the importance of decarbonising. \nIn this webinar we present the principles of Net Zero-aligned investment frameworks\, the bottom-up portfolio construction methodology that ensures consistency between the stock-level decisions and the overall climate impact goals\, and the resulting financial and climate characteristics. \nSpeakers:\nErik Christiansen\, ESG & Low Carbon Solutions Specialist\, Scientific Beta\nEric Shirbini\, Global Research and Investment Solutions Director\, Scientific Beta \nModerator:\nDaniel Brooksbank\, Responsible Investor
URL:https://www.tcfdhub.org/event-calendar/making-portfolio-decisions-and-climate-engagement-consistent/
LOCATION:Online
END:VEVENT
END:VCALENDAR