BEGIN:VCALENDAR
VERSION:2.0
PRODID:-//TCFD Knowledge Hub - ECPv5.12.1//NONSGML v1.0//EN
CALSCALE:GREGORIAN
METHOD:PUBLISH
X-WR-CALNAME:TCFD Knowledge Hub
X-ORIGINAL-URL:https://www.tcfdhub.org
X-WR-CALDESC:Events for TCFD Knowledge Hub
BEGIN:VTIMEZONE
TZID:UTC
BEGIN:STANDARD
TZOFFSETFROM:+0000
TZOFFSETTO:+0000
TZNAME:UTC
DTSTART:20210101T000000
END:STANDARD
END:VTIMEZONE
BEGIN:VEVENT
DTSTART;VALUE=DATE:20210614
DTEND;VALUE=DATE:20210619
DTSTAMP:20220114T130429
CREATED:20210601T094315Z
LAST-MODIFIED:20210601T094315Z
UID:5182-1623628800-1624060799@www.tcfdhub.org
SUMMARY:RI Europe 2021
DESCRIPTION:Keep on top of one of the biggest ever moves in investment and business at the RI Europe 2021 conference\nThe EU Green Deal and Action Plan on Financing Sustainable Growth are among the biggest shifts for business and finance since the introduction of global accounting standards or Global Investment Performance Standards (GIPS) for investment managers. \nThey will be amplified rapidly under a US administration that shares many of the same aims and China’s huge involvement in the competitive race for a green global energy transition. \nBut\, these are complicated shifts for investors and companies to understand and anticipate. \nThe RI Europe 2021 conference will be the forum for getting to grips with this massive\, complex shift. And the RI EU Action Plan ‘How To’ Guide (coming this Autumn) will act as the instruction manual for investors and companies.
URL:https://www.tcfdhub.org/event-calendar/ri-europe-2021/
LOCATION:Online
END:VEVENT
END:VCALENDAR