BEGIN:VCALENDAR
VERSION:2.0
PRODID:-//TCFD Knowledge Hub - ECPv5.12.1//NONSGML v1.0//EN
CALSCALE:GREGORIAN
METHOD:PUBLISH
X-WR-CALNAME:TCFD Knowledge Hub
X-ORIGINAL-URL:https://www.tcfdhub.org
X-WR-CALDESC:Events for TCFD Knowledge Hub
BEGIN:VTIMEZONE
TZID:Europe/Paris
BEGIN:DAYLIGHT
TZOFFSETFROM:+0100
TZOFFSETTO:+0200
TZNAME:CEST
DTSTART:20210328T010000
END:DAYLIGHT
BEGIN:STANDARD
TZOFFSETFROM:+0200
TZOFFSETTO:+0100
TZNAME:CET
DTSTART:20211031T010000
END:STANDARD
END:VTIMEZONE
BEGIN:VEVENT
DTSTART;TZID=Europe/Paris:20210630T100000
DTEND;TZID=Europe/Paris:20210630T110000
DTSTAMP:20220114T130629
CREATED:20210621T151042Z
LAST-MODIFIED:20210621T151042Z
UID:5204-1625047200-1625050800@www.tcfdhub.org
SUMMARY:Race to Zero: how finance can tackle the climate crisis
DESCRIPTION:His Royal Highness The Prince of Wales will open the event\, sharing his thoughts on why the finance and accounting community has such an important role in tackling climate change. \nA4S Executive Chairman\, Jessica Fries\, will be joined by the COP26 UK Net Zero Business Champion\, Andrew Griffith MP and Chief Financial Officers from the COP26 Principal Partners for an online discussion and a live Q&A session.
URL:https://www.tcfdhub.org/event-calendar/race-to-zero-how-finance-can-tackle-the-climate-crisis/
LOCATION:Online
END:VEVENT
BEGIN:VEVENT
DTSTART;TZID=Europe/Paris:20210630T160000
DTEND;TZID=Europe/Paris:20210630T170000
DTSTAMP:20220114T130629
CREATED:20210621T151640Z
LAST-MODIFIED:20210621T151640Z
UID:5210-1625068800-1625072400@www.tcfdhub.org
SUMMARY:The future of ESG investing
DESCRIPTION:Join Responsible Investor\, in collaboration with CME Group for a live webinar and Q&A session on the future of sustainable investing. \nInterest in sustainable investing continues to rise in 2021 and central to this growth is the availability of ESG investment tools. \nIn this webinar\, CME Group will discuss the state of the ESG investment landscape and provide updates on the performance and liquidity of their capital-efficient ESG derivative solutions – E-mini S&P 500 ESG futures as well as recently launched E-mini S&P Europe 350 ESG futures. Experts will share how ESG investing is affecting their asset allocation decisions and provide their insights on what’s to come in the second half of 2021. \nSpeakers:\nJaspreet Duhra\, Managing Director\, Head of EMEA ESG Indices\, S&P Dow Jones Indices\nPaul Woolman\, Senior Director\, Head of EMEA Equity and Alternative Index Products\, CME Group\nShantanu Tandon\, CFA\, Portfolio Manager\, Insight Investment\nMagnus Linder\, Equities & Derivatives Trading at Swedbank Robur \nModerator:\nDaniel Brooksbank\, Head of Strategic Content\, Responsible Investor
URL:https://www.tcfdhub.org/event-calendar/the-future-of-esg-investing/
LOCATION:Online
END:VEVENT
END:VCALENDAR