BEGIN:VCALENDAR
VERSION:2.0
PRODID:-//TCFD Knowledge Hub - ECPv5.12.1//NONSGML v1.0//EN
CALSCALE:GREGORIAN
METHOD:PUBLISH
X-WR-CALNAME:TCFD Knowledge Hub
X-ORIGINAL-URL:https://www.tcfdhub.org
X-WR-CALDESC:Events for TCFD Knowledge Hub
BEGIN:VTIMEZONE
TZID:Europe/Paris
BEGIN:DAYLIGHT
TZOFFSETFROM:+0100
TZOFFSETTO:+0200
TZNAME:CEST
DTSTART:20210328T010000
END:DAYLIGHT
BEGIN:STANDARD
TZOFFSETFROM:+0200
TZOFFSETTO:+0100
TZNAME:CET
DTSTART:20211031T010000
END:STANDARD
END:VTIMEZONE
BEGIN:VEVENT
DTSTART;TZID=Europe/Paris:20210701T160000
DTEND;TZID=Europe/Paris:20210701T170000
DTSTAMP:20220114T130637
CREATED:20210621T150355Z
LAST-MODIFIED:20210621T150355Z
UID:5201-1625155200-1625158800@www.tcfdhub.org
SUMMARY:Climate Scenario Analysis: Updated Scenarios and Latest Guidance From the NGFS
DESCRIPTION:In this webcast\, Theresa Löber\, Christoph Bertram\, and Jo Paisley will explore the recently published set of NGFS climate scenarios and the implications for forward-looking climate risk assessments. \nThe NGFS scenarios have been updated by incorporating countries’ commitments to reach net-zero emissions\, while also enriched with an expanded set of macroeconomic variables and additional country and sector-level granularity. \nTheresa spoke to us about the first round of scenarios in a July 2020 webcast\, and we’re pleased to welcome her back for a timely update to this critical component of climate risk management. \nThis webcast will cover: \n\nHow the updated scenarios build on Phase I\, which includes new country-level data\, macro modelling\, updates with latest policy ambitions/net-zero commitments and more\nDetails on the transition risks\, physical risks and macro impacts\nHow the scenarios are currently being used and where to go next
URL:https://www.tcfdhub.org/event-calendar/climate-scenario-analysis-updated-scenarios-and-latest-guidance-from-the-ngfs/
LOCATION:Online
END:VEVENT
END:VCALENDAR