BEGIN:VCALENDAR
VERSION:2.0
PRODID:-//TCFD Knowledge Hub - ECPv5.12.1//NONSGML v1.0//EN
CALSCALE:GREGORIAN
METHOD:PUBLISH
X-WR-CALNAME:TCFD Knowledge Hub
X-ORIGINAL-URL:https://www.tcfdhub.org
X-WR-CALDESC:Events for TCFD Knowledge Hub
BEGIN:VTIMEZONE
TZID:UTC
BEGIN:STANDARD
TZOFFSETFROM:+0000
TZOFFSETTO:+0000
TZNAME:UTC
DTSTART:20210101T000000
END:STANDARD
END:VTIMEZONE
BEGIN:VEVENT
DTSTART;TZID=UTC:20210706T150000
DTEND;TZID=UTC:20210706T160000
DTSTAMP:20220114T130607
CREATED:20210621T151454Z
LAST-MODIFIED:20210621T151454Z
UID:5208-1625583600-1625587200@www.tcfdhub.org
SUMMARY:Net zero - How to cut through the buzz and take action
DESCRIPTION:Speakers:\nLorenz Stör\, Head of Climate Analytics\, ISS ESG\nSimon Park\, Sustainability Analyst\, Handelsbanken\nKatarina Hammar\, Head of Active Ownership\, Nordea \nModerator:\nDaniel Brooksbank\, Head of Strategic Content\, Responsible Investor
URL:https://www.tcfdhub.org/event-calendar/net-zero-how-to-cut-through-the-buzz-and-take-action/
LOCATION:Online
END:VEVENT
END:VCALENDAR