BEGIN:VCALENDAR
VERSION:2.0
PRODID:-//TCFD Knowledge Hub - ECPv5.12.1//NONSGML v1.0//EN
CALSCALE:GREGORIAN
METHOD:PUBLISH
X-WR-CALNAME:TCFD Knowledge Hub
X-ORIGINAL-URL:https://www.tcfdhub.org
X-WR-CALDESC:Events for TCFD Knowledge Hub
BEGIN:VTIMEZONE
TZID:UTC
BEGIN:STANDARD
TZOFFSETFROM:+0000
TZOFFSETTO:+0000
TZNAME:UTC
DTSTART:20210101T000000
END:STANDARD
END:VTIMEZONE
BEGIN:VEVENT
DTSTART;TZID=UTC:20210720T140000
DTEND;TZID=UTC:20210720T150000
DTSTAMP:20220114T130415
CREATED:20210630T161226Z
LAST-MODIFIED:20210630T161226Z
UID:5220-1626789600-1626793200@www.tcfdhub.org
SUMMARY:ESG Data: What Matters and How to Measure it
DESCRIPTION:As the demand for ESG-driven investing has accelerated\, so too has the number of reporting requirements\, data providers and frameworks – each with varying requirements and methodologies. In this context\, a collaborative effort that involves investors\, asset managers and standard-setting institutions will be key in the quest for better quality ESG data and disclosure standards. \nJoin our panel and gain actionable insights on how to clear the biggest hurdle to successful ESG investing. \nKey topics include: \n– The ESG Standards Landscape\nWhilst the recent consolidation among the largest standard setters is considered positive\, the question remains over the adoption and flexibility of the resulting framework.\n– How to Close the Reporting Gap\nRegulators are pressuring investors to improve reporting to clients on the sustainable impact of their investments. We explain where to start.\n– Cut Through the Data Noise\nBuilding sustainable portfolios requires high-quality and forward-looking metrics. How do investors find the right information to make better decisions?
URL:https://www.tcfdhub.org/event-calendar/esg-data-what-matters-and-how-to-measure-it/
LOCATION:Online
END:VEVENT
END:VCALENDAR