BEGIN:VCALENDAR
VERSION:2.0
PRODID:-//TCFD Knowledge Hub - ECPv5.12.1//NONSGML v1.0//EN
CALSCALE:GREGORIAN
METHOD:PUBLISH
X-WR-CALNAME:TCFD Knowledge Hub
X-ORIGINAL-URL:https://www.tcfdhub.org
X-WR-CALDESC:Events for TCFD Knowledge Hub
BEGIN:VTIMEZONE
TZID:UTC
BEGIN:STANDARD
TZOFFSETFROM:+0000
TZOFFSETTO:+0000
TZNAME:UTC
DTSTART:20210101T000000
END:STANDARD
END:VTIMEZONE
BEGIN:VEVENT
DTSTART;TZID=UTC:20210728T130000
DTEND;TZID=UTC:20210728T140000
DTSTAMP:20220114T130308
CREATED:20210702T143514Z
LAST-MODIFIED:20210702T143514Z
UID:5223-1627477200-1627480800@www.tcfdhub.org
SUMMARY:CSRD in review: what is next for companies?
DESCRIPTION:On 21 April 2021 the European Commission adopted measures to help improve the flow of money towards sustainable activities across the European Union. The Commission adopted a proposal for a Corporate Sustainability Reporting Directive (CSRD)\, which would amend the existing reporting requirements of the Non-Financial Reporting Directive. \nFollowing a deep dive into specific environmental topics\, including Biodiversity and Land use\, Water\, and Climate\, CDSB will reveal its findings. We will discuss the recent updates to EU policy\, examine what this means for corporates looking to improve sustainability reporting\, and ultimately whether the new CSRD addresses the issues. \nAgenda: \n\nUpdate on CDSB findings in biodiversity and land use\, water\, and climate\nEU Policy update on current CSRD draft\nConcerns from a corporate perspective\, what is working\, what do they want to see?\nDiscussion on whether the current CSRD draft addressesthe issues
URL:https://www.tcfdhub.org/event-calendar/csrd-in-review-what-is-next-for-companies/
LOCATION:Online
END:VEVENT
END:VCALENDAR