BEGIN:VCALENDAR
VERSION:2.0
PRODID:-//TCFD Knowledge Hub - ECPv5.12.1//NONSGML v1.0//EN
CALSCALE:GREGORIAN
METHOD:PUBLISH
X-WR-CALNAME:TCFD Knowledge Hub
X-ORIGINAL-URL:https://www.tcfdhub.org
X-WR-CALDESC:Events for TCFD Knowledge Hub
BEGIN:VTIMEZONE
TZID:UTC
BEGIN:STANDARD
TZOFFSETFROM:+0000
TZOFFSETTO:+0000
TZNAME:UTC
DTSTART:20210101T000000
END:STANDARD
END:VTIMEZONE
BEGIN:VEVENT
DTSTART;VALUE=DATE:20210920
DTEND;VALUE=DATE:20210927
DTSTAMP:20220114T124855
CREATED:20210903T160457Z
LAST-MODIFIED:20210903T160708Z
UID:6805-1632096000-1632700799@www.tcfdhub.org
SUMMARY:New York Climate Week
DESCRIPTION:Climate Week NYC 2021: Getting it done \nClimate Week NYC\, taking place September 20-26\, returns for 2021 with a focus on fulfilling and increasing commitments made by businesses\, governments\, and organizations. It is the time and place where the world gathers to showcase leading climate action and discuss how to do more\, fast. \nHosted annually by international non-profit the Climate Group in conjunction with the United Nations\, and in partnership with the COP26 and the City of New York\, Climate Week NYC is a global opportunity to come together to accelerate climate action and assess progress ahead of COP26.
URL:https://www.tcfdhub.org/event-calendar/new-york-climate-week/
LOCATION:Online
END:VEVENT
BEGIN:VEVENT
DTSTART;VALUE=DATE:20210923
DTEND;VALUE=DATE:20210924
DTSTAMP:20220114T124855
CREATED:20210903T155933Z
LAST-MODIFIED:20210903T155933Z
UID:6798-1632355200-1632441599@www.tcfdhub.org
SUMMARY:Sustainable Investment Forum – North America 2021
DESCRIPTION:Returning for its 6th edition in September\, Climate Action’s Sustainable Investment Forum North America 2021\, in official partnership with UNEP Finance Initiative (UNEP FI)\, will be a fully virtual event. \n\n\nThe four-part virtual forum will welcome a large online interactive audience of asset owners and managers\, banks\, development institutions\, policymakers\, think tanks and NGOs looking to drive meaningful change in sustainable finance during virtual Climate Week NYC. A North American focused month dedicated to sustainable investment will open up the forum to a wider global audience. \n\n\nAs the world reacts to the new world order in the midst of COVID-19\, green finance and sustainable ESG practices have a pivotal role to play in global financial markets. Our virtual forum will provide an online environment to grow and continue to engage with the sustainable finance community in these unprecedented times. \nThe virtual edition of the Forum will be THE online meeting place for the sustainable finance community during Climate Week New York.
URL:https://www.tcfdhub.org/event-calendar/sustainable-investment-forum-north-america-2021-2/
LOCATION:Online
END:VEVENT
END:VCALENDAR