BEGIN:VCALENDAR
VERSION:2.0
PRODID:-//TCFD Knowledge Hub - ECPv5.12.1//NONSGML v1.0//EN
CALSCALE:GREGORIAN
METHOD:PUBLISH
X-WR-CALNAME:TCFD Knowledge Hub
X-ORIGINAL-URL:https://www.tcfdhub.org
X-WR-CALDESC:Events for TCFD Knowledge Hub
BEGIN:VTIMEZONE
TZID:UTC
BEGIN:STANDARD
TZOFFSETFROM:+0000
TZOFFSETTO:+0000
TZNAME:UTC
DTSTART:20210101T000000
END:STANDARD
END:VTIMEZONE
BEGIN:VEVENT
DTSTART;VALUE=DATE:20211004
DTEND;VALUE=DATE:20211008
DTSTAMP:20220114T125540
CREATED:20210709T081500Z
LAST-MODIFIED:20210709T081500Z
UID:5237-1633305600-1633651199@www.tcfdhub.org
SUMMARY:Reuters IMPACT
DESCRIPTION:Reuters IMPACT is a trusted platform and framework for business focused climate transformation. Built upon our foundation of trust\, the event will provide a unique forum where global business leaders will convene to drive large scale climate action.\n\nReuters IMPACT is the only forum to put climate action at the centre of mainstream business discussions. Join the conversation as we establish a means to deliver a cleaner\, healthier and fairer world\, together.
URL:https://www.tcfdhub.org/event-calendar/reuters-impact/
LOCATION:Online
END:VEVENT
BEGIN:VEVENT
DTSTART;VALUE=DATE:20211005
DTEND;VALUE=DATE:20211007
DTSTAMP:20220114T125540
CREATED:20210903T103523Z
LAST-MODIFIED:20210903T103540Z
UID:6770-1633392000-1633564799@www.tcfdhub.org
SUMMARY:The Future of ESG Data 2021 - Virtual Conference
DESCRIPTION:Gain insight into the emerging ESG data industry and understand the key factors shaping its future. \nBuilding on the success of the inaugural The Future of ESG Data conference hosted virtually in September 2020\, Environmental Finance are delighted to announce the dates for the 2021 edition. \nIt has been a big year for the nascent ESG data industry and this conference will offer unrivalled insight from industry leading experts. \n  \nSome of the key areas of discussion include: \n\nThe evolution of the regulatory landscape\nDouble materiality and impact additionality\nJudging transition plans – where quantitative meets qualitative and the importance of coherent strategy\nCorporate ESG data disclosure – harmonizing voluntary standards and streamlining frameworks to enhance metric and reporting standardisation\nESG data metrics – moving beyond climate metrics and considering how other environmental\, social and governance data metrics will mature\nThe growing importance of data transparency and free to access data – the shifting landscape for commercial ESG data providers in Europe\nESG data lakes  – navigating the data deluge and finding alpha\nScope 3 emissions and supply chain ESG considerations\nThe future of ESG data collection and analysis – new technologies and strategies
URL:https://www.tcfdhub.org/event-calendar/the-future-of-esg-data-2021-virtual-conference/
LOCATION:Online
END:VEVENT
END:VCALENDAR