BEGIN:VCALENDAR
VERSION:2.0
PRODID:-//TCFD Knowledge Hub - ECPv5.12.1//NONSGML v1.0//EN
CALSCALE:GREGORIAN
METHOD:PUBLISH
X-WR-CALNAME:TCFD Knowledge Hub
X-ORIGINAL-URL:https://www.tcfdhub.org
X-WR-CALDESC:Events for TCFD Knowledge Hub
BEGIN:VTIMEZONE
TZID:UTC
BEGIN:STANDARD
TZOFFSETFROM:+0000
TZOFFSETTO:+0000
TZNAME:UTC
DTSTART:20210101T000000
END:STANDARD
END:VTIMEZONE
BEGIN:VEVENT
DTSTART;VALUE=DATE:20211116
DTEND;VALUE=DATE:20211119
DTSTAMP:20220114T130200
CREATED:20210804T180618Z
LAST-MODIFIED:20210804T180618Z
UID:5252-1637020800-1637279999@www.tcfdhub.org
SUMMARY:Responsible Business USA - Destination 2030: The Roadmap to Lead a New Business Future
DESCRIPTION:Reuters Events flagship Responsible Business event will convene 4\,000+ CEOs\, Policymakers\, Chief Sustainability Officers\, Investors and NGOs to share new strategies and solutions on HOW business can innovation\, invest and collaborate to lead a new business future. \nJoin us post COP26 on November 16-18 as we analyse key announcements from the Summit and share ideas that will ensure greater action and leadership in 2022.
URL:https://www.tcfdhub.org/event-calendar/responsible-business-usa-destination-2030-the-roadmap-to-lead-a-new-business-future/
LOCATION:Online
END:VEVENT
BEGIN:VEVENT
DTSTART;VALUE=DATE:20211116
DTEND;VALUE=DATE:20211119
DTSTAMP:20220114T130200
CREATED:20210907T154414Z
LAST-MODIFIED:20210907T154935Z
UID:6833-1637020800-1637279999@www.tcfdhub.org
SUMMARY:Responsible Business USA 2021
DESCRIPTION:After mass disruption businesses are ready to move beyond resilience and recovery to re-capturing growth. Corporate executives have to focus on a new business future with climate\, social equality and racial issues front and center. This transition is the largest investment opportunity in history and the new Administration marks a critical change in our efforts to tackle generation defining issues. This renewed vision will only be achieved if business seizes the opportunity and leads action both within the US and further afield. \nThis is the new business imperative. It’s time we move beyond setting goals and move to enacting strategies that deliver change and action. We need a new business model\, economic system and new definitive actions that create long-term value for business\, its stakeholders and the wider society. \nReuters Events: Responsible Business USA 2021 will convene 4\,000+ business\, policy\, investment and sustainability leaders who are driving change to share new strategies and solutions on HOW business can innovation\, invest and collaborate to lead a new business future. Join us on November 16-18 as we ensure greater action and leadership in 2022 and beyond.
URL:https://www.tcfdhub.org/event-calendar/responsible-business-usa-2021/
LOCATION:Online
END:VEVENT
END:VCALENDAR