BEGIN:VCALENDAR
VERSION:2.0
PRODID:-//TCFD Knowledge Hub - ECPv5.12.1//NONSGML v1.0//EN
CALSCALE:GREGORIAN
METHOD:PUBLISH
X-WR-CALNAME:TCFD Knowledge Hub
X-ORIGINAL-URL:https://www.tcfdhub.org
X-WR-CALDESC:Events for TCFD Knowledge Hub
BEGIN:VTIMEZONE
TZID:UTC
BEGIN:STANDARD
TZOFFSETFROM:+0000
TZOFFSETTO:+0000
TZNAME:UTC
DTSTART:20210101T000000
END:STANDARD
END:VTIMEZONE
BEGIN:VEVENT
DTSTART;VALUE=DATE:20211123
DTEND;VALUE=DATE:20211125
DTSTAMP:20220114T130257
CREATED:20210907T151458Z
LAST-MODIFIED:20210907T151959Z
UID:6820-1637625600-1637798399@www.tcfdhub.org
SUMMARY:Transform Europe 2021
DESCRIPTION:There’s No Business on a Dead Planet…\n\n\n\n\n\n\n2021 now stands as the ‘make or break’ moment. Your company needs to see a shift towards a sustainable\, collective mindset throughout its operations value chain\, integrating sustainable practices into every job description\, and function\, and ensuring sustainability is engrained in every idea\, action and investment. \nWe have been creating and running events on corporate sustainability for 20 years. Our commitment to the issue of sustainability is the cornerstone of what we do\, and we know that sustainability is now your business imperative. You must adopt it to uphold and advance the reputation\, resilience\, and long-term profitability of your business. Yet\, delivering a sustainable business is no longer limited to the Sustainability function; your business’ entire value chain has a critical role to play in transforming business to be both purpose and profit driven. To make demonstrable advancements you must focus your efforts onto your supply chain which harbours the biggest issues and opportunities. You must scale your collaborations and partnerships need\, support your procurement and sourcing teams and deploy all technology that is available to you. \nReuters Events: Transform Europe 2021 will convene senior sustainability executives – those directly responsible for influencing and implementing systemic change across large\, complex global supply chains – to discuss HOW they are integrating sustainability into the core of business to help you make sustainability the business imperative.
URL:https://www.tcfdhub.org/event-calendar/transform-europe-2021/
LOCATION:Online
END:VEVENT
BEGIN:VEVENT
DTSTART;TZID=UTC:20211123T080000
DTEND;TZID=UTC:20211124T170000
DTSTAMP:20220114T130257
CREATED:20210804T180743Z
LAST-MODIFIED:20210804T180743Z
UID:5254-1637654400-1637773200@www.tcfdhub.org
SUMMARY:Transform Europe – Sustainability as the Business Imperative
DESCRIPTION:Sustainability is now the business imperative. It must be adopted to uphold and advance the reputation\, resilience\, and long-term profitability of the business. Yet\, delivering a sustainable business is no longer limited to the Sustainability function; the entire value chain has a critical role to play in transforming business to be both purpose and profit driven. \nJoin us as we convene 2\,000+ senior sustainability\, procurement and sourcing decision makers – tasked to implement systemic change across large\, complex global supply chains – to discuss HOW they are helping make sustainability the business imperative.
URL:https://www.tcfdhub.org/event-calendar/transform-europe-sustainability-as-the-business-imperative/
LOCATION:Online
END:VEVENT
BEGIN:VEVENT
DTSTART;TZID=UTC:20211123T130000
DTEND;TZID=UTC:20211123T143000
DTSTAMP:20220114T130257
CREATED:20211004T085422Z
LAST-MODIFIED:20211004T085918Z
UID:9536-1637672400-1637677800@www.tcfdhub.org
SUMMARY:GARP 2021 Climate Risk Symposium Part I: Leading Practices in Climate Risk Management and Scenario Analysis
DESCRIPTION:Part I of the 2021 Climate Risk Symposium will feature an in-depth discussion on the practical advances made in climate risk management over the past year\, showcasing some of the work by the U.K.’s Climate Financial Risk Forum\, published in October 2021. Written by leading climate risk management practitioners\, the work provides prime examples of how financial firms are establishing climate risk appetite statements and developing scenario analysis capabilities. \nSpeakers include: \n\nSarah Breeden\, Executive Director\, Financial Stability Strategy and Risk and member of the Financial Policy Committee\, Bank of England\nBen Carr\, Analytics and Capital Modelling Director\, Aviva\nLauren McNicoll\, Vice President\, Climate Change Risk\, J.P. Morgan\nMaxine Nelson\, SVP\, GARP Risk Institute\nJo Paisley\, President\, GARP Risk Institute\nRob Purdy\, Director of Balance Sheet Management\, Yorkshire Building Society
URL:https://www.tcfdhub.org/event-calendar/garp-2021-climate-risk-symposium-part-i-leading-practices-in-climate-risk-management-and-scenario-analysis/
LOCATION:Online
END:VEVENT
END:VCALENDAR