BEGIN:VCALENDAR
VERSION:2.0
PRODID:-//TCFD Knowledge Hub - ECPv5.12.1//NONSGML v1.0//EN
CALSCALE:GREGORIAN
METHOD:PUBLISH
X-WR-CALNAME:TCFD Knowledge Hub
X-ORIGINAL-URL:https://www.tcfdhub.org
X-WR-CALDESC:Events for TCFD Knowledge Hub
BEGIN:VTIMEZONE
TZID:UTC
BEGIN:STANDARD
TZOFFSETFROM:+0000
TZOFFSETTO:+0000
TZNAME:UTC
DTSTART:20210101T000000
END:STANDARD
END:VTIMEZONE
BEGIN:VEVENT
DTSTART;VALUE=DATE:20211129
DTEND;VALUE=DATE:20211130
DTSTAMP:20220114T130349
CREATED:20211108T163849Z
LAST-MODIFIED:20211108T163849Z
UID:9691-1638144000-1638230399@www.tcfdhub.org
SUMMARY:A4S Summit Plenary Day
DESCRIPTION:A series of sessions gathering finance leaders for discussion\, insight and action towards a resilient and sustainable economy. \nSessions include: \n\nThe world in 2022: Setting the path to a sustainable future\nClimate action: The race to zero and resilience\nNeed to know: Developments in sustainability-related reporting\nValuing social and human capital\nUnpacking the potential of innovative technology
URL:https://www.tcfdhub.org/event-calendar/a4s-summit-plenary-day/
LOCATION:Online
END:VEVENT
END:VCALENDAR