BEGIN:VCALENDAR
VERSION:2.0
PRODID:-//TCFD Knowledge Hub - ECPv5.12.1//NONSGML v1.0//EN
CALSCALE:GREGORIAN
METHOD:PUBLISH
X-WR-CALNAME:TCFD Knowledge Hub
X-ORIGINAL-URL:https://www.tcfdhub.org
X-WR-CALDESC:Events for TCFD Knowledge Hub
BEGIN:VTIMEZONE
TZID:UTC
BEGIN:STANDARD
TZOFFSETFROM:+0000
TZOFFSETTO:+0000
TZNAME:UTC
DTSTART:20210101T000000
END:STANDARD
END:VTIMEZONE
BEGIN:VEVENT
DTSTART;VALUE=DATE:20211201
DTEND;VALUE=DATE:20211204
DTSTAMP:20220114T130425
CREATED:20210907T152602Z
LAST-MODIFIED:20210907T152616Z
UID:6824-1638316800-1638575999@www.tcfdhub.org
SUMMARY:Reuters NEXT Virtual Global Conference
DESCRIPTION:No country\, company or community can tackle the future alone. To build a better world\, thinkers and doers must come together to share ideas\, collaborate and act.\n\n\nREUTERS NEXT draws on Reuters global reach to host diverse voices from around the world who will examine topics from different perspectives\, bringing their passion\, experience and expertise to find new ways forward.\n\nThis December\, it is your chance to be a part of the world’s largest movement to tackle change\, head on.
URL:https://www.tcfdhub.org/event-calendar/reuters-next-virtual-global-conference/
LOCATION:Online
END:VEVENT
END:VCALENDAR